BEGIN:VCALENDAR
VERSION:2.0
PRODID:-//The Shoppes at Green Wolfs Village Barn - ECPv6.15.20//NONSGML v1.0//EN
CALSCALE:GREGORIAN
METHOD:PUBLISH
X-WR-CALNAME:The Shoppes at Green Wolfs Village Barn
X-ORIGINAL-URL:https://greenwolfsvillagebarn.com
X-WR-CALDESC:Events for The Shoppes at Green Wolfs Village Barn
REFRESH-INTERVAL;VALUE=DURATION:PT1H
X-Robots-Tag:noindex
X-PUBLISHED-TTL:PT1H
BEGIN:VTIMEZONE
TZID:America/New_York
BEGIN:DAYLIGHT
TZOFFSETFROM:-0500
TZOFFSETTO:-0400
TZNAME:EDT
DTSTART:20250309T070000
END:DAYLIGHT
BEGIN:STANDARD
TZOFFSETFROM:-0400
TZOFFSETTO:-0500
TZNAME:EST
DTSTART:20251102T060000
END:STANDARD
BEGIN:DAYLIGHT
TZOFFSETFROM:-0500
TZOFFSETTO:-0400
TZNAME:EDT
DTSTART:20260308T070000
END:DAYLIGHT
BEGIN:STANDARD
TZOFFSETFROM:-0400
TZOFFSETTO:-0500
TZNAME:EST
DTSTART:20261101T060000
END:STANDARD
BEGIN:DAYLIGHT
TZOFFSETFROM:-0500
TZOFFSETTO:-0400
TZNAME:EDT
DTSTART:20270314T070000
END:DAYLIGHT
BEGIN:STANDARD
TZOFFSETFROM:-0400
TZOFFSETTO:-0500
TZNAME:EST
DTSTART:20271107T060000
END:STANDARD
END:VTIMEZONE
BEGIN:VEVENT
DTSTART;TZID=America/New_York:20260425T110000
DTEND;TZID=America/New_York:20260425T180000
DTSTAMP:20260425T112302
CREATED:20260404T000513Z
LAST-MODIFIED:20260404T000513Z
UID:5456-1777114800-1777140000@greenwolfsvillagebarn.com
SUMMARY:2026 Southeast PA Independent Bookstore Crawl | Skippack Village
DESCRIPTION:Perkiomen Trading Post\, owned and operated by Ryan Pfaff\, is a thoughtfully curated home-goods and gift shop located in historic Skippack Village\, Pennsylvania. It blends sustainable living\, artisanal craftsmanship\, and vintage charm into one inspiring space. Inside\, you’ll find eco-conscious home essentials like reusable kitchenware\, natural cleaning products\, and a refill station for non-toxic soaps\, designed to support a zero-waste lifestyle. This beautifully nature-inspired shop also features handcrafted goods made by local and regional artisans\, including small-batch candles\, ceramics\, woodwork\, textiles\, and botanicals that reflect both quality and intention. Vintage and upcycled finds round out the collection\, with reclaimed wood décor\, woven blankets\, retro glassware\, and other one-of-a-kind pieces that feel both nostalgic and fresh. Perkiomen Trading Post places a strong emphasis on sustainability\, curating products that are plastic-free\, renewable\, and built to last. The in-store soap refill station is a practical example of this mission in action\, offering customers a chance to cut down on waste while choosing naturally scented\, non-toxic products. Stop in\, say hello to Ryan\, and explore fresh\, practical ways to live a healthier\, more sustainable life. 								\n				\n					\n		\n				\n			\n						\n				\n																\n															\n															\n				\n				\n				\n									📍 The Shoppes at Green Wolf’s Village Barn in Skippack4010 W. Skippack Pike\, Suite 2\, Skippack\, PA 19474 								\n				\n				\n				\n									\n					\n						\n									Store Listing
URL:https://greenwolfsvillagebarn.com/event/2026-southeast-pa-independent-bookstore-crawl-skippack-village/
LOCATION:Pages and Parchment\, The Shoppes at Green Wolf's Village Barn\, 4010 W. Skippack Pike\, Suite 4\, Skippack\, PA\, 19474\, United States
ORGANIZER;CN="Pages and Parchment":MAILTO:info@pagesandparchment.com
END:VEVENT
BEGIN:VEVENT
DTSTART;TZID=America/New_York:20260425T183000
DTEND;TZID=America/New_York:20260425T213000
DTSTAMP:20260425T112302
CREATED:20260226T232509Z
LAST-MODIFIED:20260227T191916Z
UID:5234-1777141800-1777152600@greenwolfsvillagebarn.com
SUMMARY:Handmade Stationery Night: Carve & Print Your Own Greeting Cards
DESCRIPTION:Perkiomen Trading Post\, owned and operated by Ryan Pfaff\, is a thoughtfully curated home-goods and gift shop located in historic Skippack Village\, Pennsylvania. It blends sustainable living\, artisanal craftsmanship\, and vintage charm into one inspiring space. Inside\, you’ll find eco-conscious home essentials like reusable kitchenware\, natural cleaning products\, and a refill station for non-toxic soaps\, designed to support a zero-waste lifestyle. This beautifully nature-inspired shop also features handcrafted goods made by local and regional artisans\, including small-batch candles\, ceramics\, woodwork\, textiles\, and botanicals that reflect both quality and intention. Vintage and upcycled finds round out the collection\, with reclaimed wood décor\, woven blankets\, retro glassware\, and other one-of-a-kind pieces that feel both nostalgic and fresh. Perkiomen Trading Post places a strong emphasis on sustainability\, curating products that are plastic-free\, renewable\, and built to last. The in-store soap refill station is a practical example of this mission in action\, offering customers a chance to cut down on waste while choosing naturally scented\, non-toxic products. Stop in\, say hello to Ryan\, and explore fresh\, practical ways to live a healthier\, more sustainable life. 								\n				\n					\n		\n				\n			\n						\n				\n																\n															\n															\n				\n				\n				\n									📍 The Shoppes at Green Wolf’s Village Barn in Skippack4010 W. Skippack Pike\, Suite 2\, Skippack\, PA 19474 								\n				\n				\n				\n									\n					\n						\n									Store Listing
URL:https://greenwolfsvillagebarn.com/event/handmade-stationery-night-carve-print-your-own-greeting-cards/
LOCATION:Wondering Time\, The Shoppes at Green Wolf's Village Barn\, Suite 5A\, 4010 Skippack Pike\, Skippack\, PA\, 19474\, United States
ORGANIZER;CN="Wondeing Time":MAILTO:wonderingtimeshop@gmail.com
END:VEVENT
BEGIN:VEVENT
DTSTART;TZID=America/New_York:20260429T180000
DTEND;TZID=America/New_York:20260429T180000
DTSTAMP:20260425T112302
CREATED:20260407T235052Z
LAST-MODIFIED:20260407T235052Z
UID:5477-1777485600-1777485600@greenwolfsvillagebarn.com
SUMMARY:An Evening with Author Richard Plincke - Book Signing
DESCRIPTION:Perkiomen Trading Post\, owned and operated by Ryan Pfaff\, is a thoughtfully curated home-goods and gift shop located in historic Skippack Village\, Pennsylvania. It blends sustainable living\, artisanal craftsmanship\, and vintage charm into one inspiring space. Inside\, you’ll find eco-conscious home essentials like reusable kitchenware\, natural cleaning products\, and a refill station for non-toxic soaps\, designed to support a zero-waste lifestyle. This beautifully nature-inspired shop also features handcrafted goods made by local and regional artisans\, including small-batch candles\, ceramics\, woodwork\, textiles\, and botanicals that reflect both quality and intention. Vintage and upcycled finds round out the collection\, with reclaimed wood décor\, woven blankets\, retro glassware\, and other one-of-a-kind pieces that feel both nostalgic and fresh. Perkiomen Trading Post places a strong emphasis on sustainability\, curating products that are plastic-free\, renewable\, and built to last. The in-store soap refill station is a practical example of this mission in action\, offering customers a chance to cut down on waste while choosing naturally scented\, non-toxic products. Stop in\, say hello to Ryan\, and explore fresh\, practical ways to live a healthier\, more sustainable life. 								\n				\n					\n		\n				\n			\n						\n				\n																\n															\n															\n				\n				\n				\n									📍 The Shoppes at Green Wolf’s Village Barn in Skippack4010 W. Skippack Pike\, Suite 2\, Skippack\, PA 19474 								\n				\n				\n				\n									\n					\n						\n									Store Listing
URL:https://greenwolfsvillagebarn.com/event/evening-with-author-richard-plincke-book-signing/
LOCATION:Pages and Parchment\, The Shoppes at Green Wolf's Village Barn\, 4010 W. Skippack Pike\, Suite 4\, Skippack\, PA\, 19474\, United States
ORGANIZER;CN="Pages and Parchment":MAILTO:info@pagesandparchment.com
END:VEVENT
BEGIN:VEVENT
DTSTART;TZID=America/New_York:20260430T180000
DTEND;TZID=America/New_York:20260430T190000
DTSTAMP:20260425T112302
CREATED:20260407T224526Z
LAST-MODIFIED:20260407T225048Z
UID:5472-1777572000-1777575600@greenwolfsvillagebarn.com
SUMMARY:Quite Chapters at Pages and Parchment Bookstore - April 2026
DESCRIPTION:Perkiomen Trading Post\, owned and operated by Ryan Pfaff\, is a thoughtfully curated home-goods and gift shop located in historic Skippack Village\, Pennsylvania. It blends sustainable living\, artisanal craftsmanship\, and vintage charm into one inspiring space. Inside\, you’ll find eco-conscious home essentials like reusable kitchenware\, natural cleaning products\, and a refill station for non-toxic soaps\, designed to support a zero-waste lifestyle. This beautifully nature-inspired shop also features handcrafted goods made by local and regional artisans\, including small-batch candles\, ceramics\, woodwork\, textiles\, and botanicals that reflect both quality and intention. Vintage and upcycled finds round out the collection\, with reclaimed wood décor\, woven blankets\, retro glassware\, and other one-of-a-kind pieces that feel both nostalgic and fresh. Perkiomen Trading Post places a strong emphasis on sustainability\, curating products that are plastic-free\, renewable\, and built to last. The in-store soap refill station is a practical example of this mission in action\, offering customers a chance to cut down on waste while choosing naturally scented\, non-toxic products. Stop in\, say hello to Ryan\, and explore fresh\, practical ways to live a healthier\, more sustainable life. 								\n				\n					\n		\n				\n			\n						\n				\n																\n															\n															\n				\n				\n				\n									📍 The Shoppes at Green Wolf’s Village Barn in Skippack4010 W. Skippack Pike\, Suite 2\, Skippack\, PA 19474 								\n				\n				\n				\n									\n					\n						\n									Store Listing
URL:https://greenwolfsvillagebarn.com/event/quite-chapters-at-pages-and-parchment-bookstore-april-2026/
LOCATION:Pages and Parchment\, The Shoppes at Green Wolf's Village Barn\, 4010 W. Skippack Pike\, Suite 4\, Skippack\, PA\, 19474\, United States
ORGANIZER;CN="Pages and Parchment":MAILTO:info@pagesandparchment.com
END:VEVENT
END:VCALENDAR