BEGIN:VCALENDAR
VERSION:2.0
PRODID:-//The Shoppes at Green Wolfs Village Barn - ECPv6.15.20//NONSGML v1.0//EN
CALSCALE:GREGORIAN
METHOD:PUBLISH
X-ORIGINAL-URL:https://greenwolfsvillagebarn.com
X-WR-CALDESC:Events for The Shoppes at Green Wolfs Village Barn
REFRESH-INTERVAL;VALUE=DURATION:PT1H
X-Robots-Tag:noindex
X-PUBLISHED-TTL:PT1H
BEGIN:VTIMEZONE
TZID:America/New_York
BEGIN:DAYLIGHT
TZOFFSETFROM:-0500
TZOFFSETTO:-0400
TZNAME:EDT
DTSTART:20250309T070000
END:DAYLIGHT
BEGIN:STANDARD
TZOFFSETFROM:-0400
TZOFFSETTO:-0500
TZNAME:EST
DTSTART:20251102T060000
END:STANDARD
BEGIN:DAYLIGHT
TZOFFSETFROM:-0500
TZOFFSETTO:-0400
TZNAME:EDT
DTSTART:20260308T070000
END:DAYLIGHT
BEGIN:STANDARD
TZOFFSETFROM:-0400
TZOFFSETTO:-0500
TZNAME:EST
DTSTART:20261101T060000
END:STANDARD
BEGIN:DAYLIGHT
TZOFFSETFROM:-0500
TZOFFSETTO:-0400
TZNAME:EDT
DTSTART:20270314T070000
END:DAYLIGHT
BEGIN:STANDARD
TZOFFSETFROM:-0400
TZOFFSETTO:-0500
TZNAME:EST
DTSTART:20271107T060000
END:STANDARD
END:VTIMEZONE
BEGIN:VEVENT
DTSTART;TZID=America/New_York:20260430T180000
DTEND;TZID=America/New_York:20260430T190000
DTSTAMP:20260425T142321
CREATED:20260407T224526Z
LAST-MODIFIED:20260407T225048Z
UID:5472-1777572000-1777575600@greenwolfsvillagebarn.com
SUMMARY:Quite Chapters at Pages and Parchment Bookstore - April 2026
DESCRIPTION:Never give yourself time to just sit and read? Want to enjoy reading in the quiet company of others\, with no pressure to hold a conversation? Come read with us! Our first gathering of Quiet Chapters: a cozy silent reading hour is next Thursday\, 4/30 at 6pm. Bring a book\, or discover one here\, and enjoy an hour of quiet reading among friendly company. Cozy cushions\, tea & hot chocolate provided. Did we mention it’s FREE? Come along and read with us! \nFind us at The Shoppes at Green Wolf’s Village Barn in Skippack Village. We’d love to have you join us. \nHappy reading!
URL:https://greenwolfsvillagebarn.com/event/quite-chapters-at-pages-and-parchment-bookstore-april-2026/
LOCATION:Pages and Parchment\, The Shoppes at Green Wolf's Village Barn\, 4010 W. Skippack Pike\, Suite 4\, Skippack\, PA\, 19474\, United States
ORGANIZER;CN="Pages and Parchment":MAILTO:info@pagesandparchment.com
END:VEVENT
END:VCALENDAR